BEGIN:VCALENDAR
VERSION:2.0
PRODID:-//seekicks - ECPv6.10.2//NONSGML v1.0//EN
CALSCALE:GREGORIAN
METHOD:PUBLISH
X-ORIGINAL-URL:https://seekicks.kh-berlin.de
X-WR-CALDESC:Events for seekicks
REFRESH-INTERVAL;VALUE=DURATION:PT1H
X-Robots-Tag:noindex
X-PUBLISHED-TTL:PT1H
BEGIN:VTIMEZONE
TZID:Europe/Berlin
BEGIN:DAYLIGHT
TZOFFSETFROM:+0100
TZOFFSETTO:+0200
TZNAME:CEST
DTSTART:20230326T010000
END:DAYLIGHT
BEGIN:STANDARD
TZOFFSETFROM:+0200
TZOFFSETTO:+0100
TZNAME:CET
DTSTART:20231029T010000
END:STANDARD
BEGIN:DAYLIGHT
TZOFFSETFROM:+0100
TZOFFSETTO:+0200
TZNAME:CEST
DTSTART:20240331T010000
END:DAYLIGHT
BEGIN:STANDARD
TZOFFSETFROM:+0200
TZOFFSETTO:+0100
TZNAME:CET
DTSTART:20241027T010000
END:STANDARD
END:VTIMEZONE
BEGIN:VEVENT
DTSTART;TZID=Europe/Berlin:20240201T100000
DTEND;TZID=Europe/Berlin:20240201T150000
DTSTAMP:20260425T024833
CREATED:20231010T192243Z
LAST-MODIFIED:20231019T111852Z
UID:10000073-1706781600-1706799600@seekicks.kh-berlin.de
SUMMARY:Art and conditions
DESCRIPTION:To register for this course students and alumni need to become part of the provided incom workspace! find further information below. \nOnline workshop on zoom; link will be provided \nThursday February 1\, 2024 10:00 AM – 3:00 PM \nThe Corona crisis has accelerated the structural change through digitalization. What does this mean for the art market and our own self-image as artists? What structural possibilities arise from this change? And do new technologies offer more equal opportunities\, for example? \n“Online is the new normal.” – The world is changing and with it the way art is communicated and images are seen. The acute death of galleries and the growing share of digitally consumed images bring radically new questions and demands to the professional realities of today’s artists. At a time when many creatives are questioning their artistic existence\, this workshop highlights positive examples. For example\, new technologies offer possibilities for governance models that address the question of what conditions we artists want to work under and what structures we design for our work in order to assert ourselves sovereignly. \nGeneral knowledge about the professional field of “artist” and practices of the global art market are conveyed under the aspect of the current digital turn. Gallery 2.0\, artist agency\, NFTs\, cooperative networking\, social media\, direct sales? The seminar will focus on the presentation and discussion of concrete and inspiring examples from practice that follow very different professional paths. These act as impulses for artists and art professionals to develop their own strategies and a confident attitude. \nwith Sophia Pompéry \n\n\n____\nCourse language: German\, Questions in English are more than welcome!\n\nBy attending two offers and a personal résumé\, 2 ETCS points can be earned in the “Theorie & Geschichte” department.\n\nArt / Design as a profession: Basics for self-employment (10/26/2023)\nFinding your way through the application jungle: An application guide to project proposals and grants (11/02/2023)\nArtificial intelligence and analog stupidity (11/16/\, 11/23/\, 11/30/2023)\nArtist | Designer – For sure! (12/12/2023)\nStay Strong – Resilience for Artists and Designers (12/19/2023)\n»Lipstick on the Gorilla?« – Art in public space (01/11/ + 01/25/2024)\nRhetoric (02/07/ + 02/08/2024)
URL:https://seekicks.kh-berlin.de/event/2324-art-and-conditions/
LOCATION:online\, Berlin\, Germany
ATTACH;FMTTYPE=image/jpeg:https://seekicks.kh-berlin.de/wp-content/uploads/2023/07/image-asset-3.jpeg
END:VEVENT
BEGIN:VEVENT
DTSTART;TZID=Europe/Berlin:20231130T140000
DTEND;TZID=Europe/Berlin:20231130T160000
DTSTAMP:20260425T024833
CREATED:20231010T192219Z
LAST-MODIFIED:20231019T111945Z
UID:10000064-1701352800-1701360000@seekicks.kh-berlin.de
SUMMARY:Artificial intelligence and analog stupidity
DESCRIPTION:To register for this course students and alumni need to become part of the provided incom workspace! find further information below. \nA 3-day compact seminar in cooperation with the HBKsaar \nThursday\, November 16\, 2023 2:00 PM – 4:00 PM \nThursday\, November 23\, 2023 2:00 PM – 4:00 PM \nThursday\, November 30\, 2023 2:00 PM – 4:00 PM \nIn today’s digital era\, Artificial Intelligence (AI) has taken on a significant role in almost every aspect of our lives. From designing products to developing user interfaces\, AI has the potential to revolutionize the design process and take creativity to new heights\, or put creatives out of work. \nHowever\, the benefits of AI are not limited to increasing efficiency and generating new ideas. Artists and designers who are knowledgeable about and critical of the technology also have the opportunity to help shape social discourse and raise awareness about the impact of technology. Art and design can sensitize\, look speculatively into the future and define which tasks technology should and should not fulfill. \nwith Sophia Pompéry (KHB) and Hannes Käfer (HBKsaar) \n____\nCourse language: German\, Questions in English are more than welcome!\nBy attending two offers and a personal résumé\, 2 ETCS points can be earned in the “Theorie & Geschichte” department. \n\n\nArt / Design as a profession: Basics for self-employment (10/26/2023)\nFinding your way through the application jungle: An application guide to project proposals and grants (11/02/2023)\nArtist | Designer – For sure! (12/12/2023)\nStay Strong – Resilience for Artists and Designers (12/19/2023)\n»Lipstick on the Gorilla?« – Art in public space (01/11/ + 01/25/2024)\nArt and conditions (02/01/2024)\nRhetoric (02/07/ + 02/08/2024)
URL:https://seekicks.kh-berlin.de/event/artificial-intelligence-and-analog-stupidity/2023-11-30/
LOCATION:online\, Berlin\, Germany
ATTACH;FMTTYPE=image/jpeg:https://seekicks.kh-berlin.de/wp-content/uploads/2023/07/image-asset-1.jpeg
END:VEVENT
BEGIN:VEVENT
DTSTART;TZID=Europe/Berlin:20231123T140000
DTEND;TZID=Europe/Berlin:20231123T160000
DTSTAMP:20260425T024833
CREATED:20231010T192219Z
LAST-MODIFIED:20231019T111945Z
UID:10000063-1700748000-1700755200@seekicks.kh-berlin.de
SUMMARY:Artificial intelligence and analog stupidity
DESCRIPTION:To register for this course students and alumni need to become part of the provided incom workspace! find further information below. \nA 3-day compact seminar in cooperation with the HBKsaar \nThursday\, November 16\, 2023 2:00 PM – 4:00 PM \nThursday\, November 23\, 2023 2:00 PM – 4:00 PM \nThursday\, November 30\, 2023 2:00 PM – 4:00 PM \nIn today’s digital era\, Artificial Intelligence (AI) has taken on a significant role in almost every aspect of our lives. From designing products to developing user interfaces\, AI has the potential to revolutionize the design process and take creativity to new heights\, or put creatives out of work. \nHowever\, the benefits of AI are not limited to increasing efficiency and generating new ideas. Artists and designers who are knowledgeable about and critical of the technology also have the opportunity to help shape social discourse and raise awareness about the impact of technology. Art and design can sensitize\, look speculatively into the future and define which tasks technology should and should not fulfill. \nwith Sophia Pompéry (KHB) and Hannes Käfer (HBKsaar) \n____\nCourse language: German\, Questions in English are more than welcome!\nBy attending two offers and a personal résumé\, 2 ETCS points can be earned in the “Theorie & Geschichte” department. \n\n\nArt / Design as a profession: Basics for self-employment (10/26/2023)\nFinding your way through the application jungle: An application guide to project proposals and grants (11/02/2023)\nArtist | Designer – For sure! (12/12/2023)\nStay Strong – Resilience for Artists and Designers (12/19/2023)\n»Lipstick on the Gorilla?« – Art in public space (01/11/ + 01/25/2024)\nArt and conditions (02/01/2024)\nRhetoric (02/07/ + 02/08/2024)
URL:https://seekicks.kh-berlin.de/event/artificial-intelligence-and-analog-stupidity/2023-11-23/
LOCATION:online\, Berlin\, Germany
ATTACH;FMTTYPE=image/jpeg:https://seekicks.kh-berlin.de/wp-content/uploads/2023/07/image-asset-1.jpeg
END:VEVENT
BEGIN:VEVENT
DTSTART;TZID=Europe/Berlin:20231116T140000
DTEND;TZID=Europe/Berlin:20231116T160000
DTSTAMP:20260425T024833
CREATED:20231010T192219Z
LAST-MODIFIED:20231019T111945Z
UID:10000062-1700143200-1700150400@seekicks.kh-berlin.de
SUMMARY:Artificial intelligence and analog stupidity
DESCRIPTION:To register for this course students and alumni need to become part of the provided incom workspace! find further information below. \nA 3-day compact seminar in cooperation with the HBKsaar \nThursday\, November 16\, 2023 2:00 PM – 4:00 PM \nThursday\, November 23\, 2023 2:00 PM – 4:00 PM \nThursday\, November 30\, 2023 2:00 PM – 4:00 PM \nIn today’s digital era\, Artificial Intelligence (AI) has taken on a significant role in almost every aspect of our lives. From designing products to developing user interfaces\, AI has the potential to revolutionize the design process and take creativity to new heights\, or put creatives out of work. \nHowever\, the benefits of AI are not limited to increasing efficiency and generating new ideas. Artists and designers who are knowledgeable about and critical of the technology also have the opportunity to help shape social discourse and raise awareness about the impact of technology. Art and design can sensitize\, look speculatively into the future and define which tasks technology should and should not fulfill. \nwith Sophia Pompéry (KHB) and Hannes Käfer (HBKsaar) \n____\nCourse language: German\, Questions in English are more than welcome!\nBy attending two offers and a personal résumé\, 2 ETCS points can be earned in the “Theorie & Geschichte” department. \n\n\nArt / Design as a profession: Basics for self-employment (10/26/2023)\nFinding your way through the application jungle: An application guide to project proposals and grants (11/02/2023)\nArtist | Designer – For sure! (12/12/2023)\nStay Strong – Resilience for Artists and Designers (12/19/2023)\n»Lipstick on the Gorilla?« – Art in public space (01/11/ + 01/25/2024)\nArt and conditions (02/01/2024)\nRhetoric (02/07/ + 02/08/2024)
URL:https://seekicks.kh-berlin.de/event/artificial-intelligence-and-analog-stupidity/2023-11-16/
LOCATION:online\, Berlin\, Germany
ATTACH;FMTTYPE=image/jpeg:https://seekicks.kh-berlin.de/wp-content/uploads/2023/07/image-asset-1.jpeg
END:VEVENT
BEGIN:VEVENT
DTSTART;TZID=Europe/Berlin:20230613T100000
DTEND;TZID=Europe/Berlin:20230613T150000
DTSTAMP:20260425T024833
CREATED:20230427T103256Z
LAST-MODIFIED:20230427T103256Z
UID:10000051-1686650400-1686668400@seekicks.kh-berlin.de
SUMMARY:Art. Power. Market. - Positive changes under the pandemic
DESCRIPTION:Workshop on Tuesday\, June 13\, 10h-15h online via Zoom.\nwith Sophia Pompéry \nThe Corona crisis has accelerated structural change through digitalization. What does this mean for the art market and our own self-image as artists? What structural possibilities arise from this change? And do new technologies offer more equal opportunities\, for example? \n“Online is the new normal.” – The world is changing and with it the way art is communicated and images are seen. The acute death of galleries and the growing share of digitally consumed images bring radically new questions and demands to the professional realities of today’s artists. At a time when many creatives are questioning their artistic existence\, this workshop highlights positive examples. For example\, new technologies offer possibilities for governance models that address the question of what conditions we artists want to work under and what structures we design for our work in order to assert ourselves sovereignly. \nGeneral knowledge about the professional field of “artist” and practices of the global art market are conveyed under the aspect of the current digital turn. Gallery 2.0\, artist agency\, NFTs\, cooperative networking\, social media\, direct sales? The seminar will focus on the presentation and discussion of concrete and inspiring examples from practice that follow very different professional paths. These will serve as impulses for artists and art professionals to develop their own strategies and a confident attitude. \nRegister here!
URL:https://seekicks.kh-berlin.de/event/art-power-market-positive-changes-under-the-pandemic/
LOCATION:online\, Berlin\, Germany
END:VEVENT
BEGIN:VEVENT
DTSTART;TZID=Europe/Berlin:20230525T100000
DTEND;TZID=Europe/Berlin:20230525T150000
DTSTAMP:20260425T024833
CREATED:20230427T103038Z
LAST-MODIFIED:20230427T103038Z
UID:10000045-1685008800-1685026800@seekicks.kh-berlin.de
SUMMARY:About me ... - Portfolio\, Statement und CV
DESCRIPTION:Online: Two-day compact seminar on portfolio\, resume and artist statement on May 11 and 25\, 10-15h\nwith Sophia Pompéry \nWhen?  25/05/2023 | 10 am – 3 pm \nWhere? Online \n\n\n\n\n\n\n  \nNo visibility without self-portrayal. Those who can create a concise image of themselves and their artistic position have an advantage – and can also shape the perception of their work. Finding a professionally detached view and a coherent language for one’s artistic work is difficult for many. – But it can be learned and strengthens both the skills of mediation and the artistic attitude itself. There are no limits to creativity. \n“About me…” is a two-day block seminar that aims to show modes of action and scope for action in the presentation of artistic work and to develop individual approaches to solutions. It is aimed at alumni and students of liberal arts in their main studies. \nThe goal is to develop one’s own self-image\, as well as a holistic\, individual\, creative communication strategy for the artistic work. \nPlease plan time between the two dates for your own implementation of the portfolio. \nRegister here!
URL:https://seekicks.kh-berlin.de/event/about-me-portfolio-statement-und-cv-2/
LOCATION:online\, Berlin\, Germany
END:VEVENT
BEGIN:VEVENT
DTSTART;TZID=Europe/Berlin:20230511T100000
DTEND;TZID=Europe/Berlin:20230511T150000
DTSTAMP:20260425T024833
CREATED:20230427T102947Z
LAST-MODIFIED:20230427T102947Z
UID:10000040-1683799200-1683817200@seekicks.kh-berlin.de
SUMMARY:About me ... - Portfolio\, Statement and CV
DESCRIPTION:Online: Two-day compact seminar on portfolio\, resume and artist statement on May 11 and 25\, 10-15h\nwith Sophia Pompéry \nWhen?  11/05/2023 | 10 am – 3 pm \nWhere? Online \n\n\n\n\n\n\n  \nNo visibility without self-portrayal. Those who can create a concise image of themselves and their artistic position have an advantage – and can also shape the perception of their work. Finding a professionally detached view and a coherent language for one’s artistic work is difficult for many. – But it can be learned and strengthens both the skills of mediation and the artistic attitude itself. There are no limits to creativity. \n“About me…” is a two-day block seminar that aims to show modes of action and scope for action in the presentation of artistic work and to develop individual approaches to solutions. It is aimed at alumni and students of liberal arts in their main studies. \nThe goal is to develop one’s own self-image\, as well as a holistic\, individual\, creative communication strategy for the artistic work. \nPlease plan time between the two dates for your own implementation of the portfolio. \nRegister here!
URL:https://seekicks.kh-berlin.de/event/about-me-portfolio-statement-and-cv/
LOCATION:online\, Berlin\, Germany
END:VEVENT
END:VCALENDAR