BEGIN:VCALENDAR
VERSION:2.0
PRODID:-//seekicks - ECPv6.10.2//NONSGML v1.0//EN
CALSCALE:GREGORIAN
METHOD:PUBLISH
X-WR-CALNAME:seekicks
X-ORIGINAL-URL:https://seekicks.kh-berlin.de
X-WR-CALDESC:Events for seekicks
REFRESH-INTERVAL;VALUE=DURATION:PT1H
X-Robots-Tag:noindex
X-PUBLISHED-TTL:PT1H
BEGIN:VTIMEZONE
TZID:Europe/Berlin
BEGIN:DAYLIGHT
TZOFFSETFROM:+0100
TZOFFSETTO:+0200
TZNAME:CEST
DTSTART:20220327T010000
END:DAYLIGHT
BEGIN:STANDARD
TZOFFSETFROM:+0200
TZOFFSETTO:+0100
TZNAME:CET
DTSTART:20221030T010000
END:STANDARD
END:VTIMEZONE
BEGIN:VEVENT
DTSTART;TZID=Europe/Berlin:20221215T160000
DTEND;TZID=Europe/Berlin:20221215T180000
DTSTAMP:20260425T122827
CREATED:20221215T164707Z
LAST-MODIFIED:20221219T065658Z
UID:10000008-1671120000-1671127200@seekicks.kh-berlin.de
SUMMARY:nownesslab | workshop | what really matters with Mina Mahouti
DESCRIPTION:»what really matters?« explores our relationship with our environment by seeking to understand what it is made of. \nWhich materials surround us and how do we use them in our design and art practice? Where do resources come from and in what ways can they be re-used? \nThis course enables us to critically reflect on our own design practice and to take up decolonial perspectives. The discourse will be broadened through excursions and exchange with practice partners in Berlin. \nIn the first workshop\, we will focus on what really matters to us. We use our intrinsic motivation as a driving force for change.
URL:https://seekicks.kh-berlin.de/event/2022-12-15-whatreallymatters/
LOCATION:weissensee school of arts
ATTACH;FMTTYPE=image/png:https://seekicks.kh-berlin.de/wp-content/uploads/2022/12/nownesslab1-insta.png
ORGANIZER;CN="seekicks":MAILTO:hello@seekicks.org
END:VEVENT
END:VCALENDAR